BEGIN:VCALENDAR
VERSION:2.0
PRODID:www.contraelcancer.es
X-WR-TIMEZONE:Europe/Madrid
X-PUBLISHED-TTL:P1W
BEGIN:VTIMEZONE
TZID:Europe/Madrid
X-LIC-LOCATION:Europe/Madrid
BEGIN:DAYLIGHT
TZNAME:CEST
TZOFFSETFROM:+0100
TZOFFSETTO:+0200
DTSTART:20260329T010000
END:DAYLIGHT
BEGIN:DAYLIGHT
TZNAME:CEST
TZOFFSETFROM:+0100
TZOFFSETTO:+0200
DTSTART:20270328T010000
END:DAYLIGHT
BEGIN:STANDARD
TZNAME:CET
TZOFFSETFROM:+0200
TZOFFSETTO:+0100
DTSTART:20251026T010000
END:STANDARD
BEGIN:STANDARD
TZNAME:CET
TZOFFSETFROM:+0200
TZOFFSETTO:+0100
DTSTART:20261025T010000
END:STANDARD
END:VTIMEZONE
BEGIN:VEVENT
UID:22ab83715f5be944163d7fd6adba7d07
DTSTART;TZID=Europe/Madrid:20260527T170000
SEQUENCE:0
TRANSP:OPAQUE
URL:https://www.contraelcancer.es/[node:path]
SUMMARY:Grupo para cuidadores: cuidarse para cuidar.
CLASS:PUBLIC
DESCRIPTION:Grupo de familiares de pacientes que están en tratamiento acti
 vo.\nEspacio terapéutico donde ofreceremos un espacio para compartir las\
 ndificultades más comunes cuando una persona es cuidadora\, hablaremos\nd
 e la importancia del autocuidado y la comunicación y\nproporcionaremos he
 rramientas para la mejor gestión.\n\nUna actividad de 6 SESIONES con una 
 periodicidad semanal.\n\nPARA PARTICIPAR EN EL GRUPO ES NECESARIO REALIZAR
  UNA ENTREVISTA\nPREVIA.\n\nLA INSCRIPCIONES SE CERRARÁN UNA SEMANA ANTES
  DEL INICIO DEL GRUPO.\n\n
X-ALT-DESC;FMTTYPE=text/html:<p><strong></strong></p>\n\n<p>Grupo de famili
 ares de pacientes que están en tratamiento activo. Espacio terapéutico d
 onde ofreceremos un espacio para compartir las dificultades más comunes c
 uando una persona es cuidadora\, hablaremos de la importancia del autocuid
 ado y la comunicación y proporcionaremos herramientas para la mejor gesti
 ón.</p>\n\n<p>Una actividad de <strong>6 sesiones</strong> con una period
 icidad semanal.</p>\n\n<p><strong>Para participar en el grupo es necesario
  realizar una entrevista previa.</strong></p>\n\n<p><strong>La inscripcion
 es se cerrarán una semana antes del inicio del grupo.</strong></p>\n\n<p>
 <strong></strong><strong></strong></p>\n
DTSTAMP:20260420T101338Z
END:VEVENT
END:VCALENDAR