BEGIN:VCALENDAR
VERSION:2.0
PRODID:www.contraelcancer.es
X-WR-TIMEZONE:Europe/Madrid
X-PUBLISHED-TTL:P1W
BEGIN:VTIMEZONE
TZID:Europe/Madrid
X-LIC-LOCATION:Europe/Madrid
BEGIN:DAYLIGHT
TZNAME:CEST
TZOFFSETFROM:+0100
TZOFFSETTO:+0200
DTSTART:20260329T010000
END:DAYLIGHT
BEGIN:DAYLIGHT
TZNAME:CEST
TZOFFSETFROM:+0100
TZOFFSETTO:+0200
DTSTART:20270328T010000
END:DAYLIGHT
BEGIN:STANDARD
TZNAME:CET
TZOFFSETFROM:+0200
TZOFFSETTO:+0100
DTSTART:20251026T010000
END:STANDARD
BEGIN:STANDARD
TZNAME:CET
TZOFFSETFROM:+0200
TZOFFSETTO:+0100
DTSTART:20261025T010000
END:STANDARD
END:VTIMEZONE
BEGIN:VEVENT
UID:e8b8925e3eaa1ecf86d91a7c687a28c1
DTSTART;TZID=Europe/Madrid:20260518T120000
SEQUENCE:0
TRANSP:OPAQUE
URL:https://www.contraelcancer.es/[node:path]
SUMMARY:Menopausa i càncer: alimentació. Online. (Traducció simultània 
 en llengua de signes).
CLASS:PUBLIC
DESCRIPTION:La menopausa comporta una sèrie de canvis físics que\, quan e
 s\nprodueixen enmig del procés oncològic\, poden intensificar-se o\nagre
 ujar-se. Aquesta etapa pot aparèixer de manera natural o bé com\na conse
 qüència dels tractaments oncològics\, fet que sovint\nrequereix una ate
 nció específica als hàbits de vida.\nEn aquest context\, l’alimentaci
 ó té un paper clau en el\nmanteniment de la salut i el benestar. Aquesta
  xerrada ofereix\norientacions nutricionals adaptades a dones amb càncer 
 en situació\nde menopausa\, amb l’objectiu de promoure una alimentació
 \nequilibrada\, segura i adequada a les necessitats individuals.\n\nEL TAL
 LER COMPTARÀ AMB LA TRADUCCIÓ SIMULTÀNIA EN LLENGUA DE\nSIGNES.\n
X-ALT-DESC;FMTTYPE=text/html:<p>La menopausa comporta una sèrie de canvis 
 físics que\, quan es produeixen enmig del procés oncològic\, poden inte
 nsificar-se o agreujar-se. Aquesta etapa pot aparèixer de manera natural 
 o bé com a conseqüència dels tractaments oncològics\, fet que sovint r
 equereix una atenció específica als hàbits de vida.<br />\nEn aquest co
 ntext\, l’alimentació té un paper clau en el manteniment de la salut i
  el benestar. Aquesta xerrada ofereix orientacions nutricionals adaptades 
 a dones amb càncer en situació de menopausa\, amb l’objectiu de promou
 re una alimentació equilibrada\, segura i adequada a les necessitats indi
 viduals.</p>\n\n<p><strong>El taller comptarà amb la traducció simultàn
 ia en llengua de signes.</strong></p>
DTSTAMP:20260420T052043Z
END:VEVENT
END:VCALENDAR