BEGIN:VCALENDAR
VERSION:2.0
PRODID:www.contraelcancer.es
X-WR-TIMEZONE:Europe/Madrid
X-PUBLISHED-TTL:P1W
BEGIN:VTIMEZONE
TZID:Europe/Madrid
X-LIC-LOCATION:Europe/Madrid
BEGIN:DAYLIGHT
TZNAME:CEST
TZOFFSETFROM:+0100
TZOFFSETTO:+0200
DTSTART:20260329T010000
END:DAYLIGHT
BEGIN:DAYLIGHT
TZNAME:CEST
TZOFFSETFROM:+0100
TZOFFSETTO:+0200
DTSTART:20270328T010000
END:DAYLIGHT
BEGIN:STANDARD
TZNAME:CET
TZOFFSETFROM:+0200
TZOFFSETTO:+0100
DTSTART:20251026T010000
END:STANDARD
BEGIN:STANDARD
TZNAME:CET
TZOFFSETFROM:+0200
TZOFFSETTO:+0100
DTSTART:20261025T010000
END:STANDARD
END:VTIMEZONE
BEGIN:VEVENT
UID:9a36fd870952386e4db217ccc38d4752
DTSTART;TZID=Europe/Madrid:20260519T093000
SEQUENCE:0
TRANSP:OPAQUE
URL:https://www.contraelcancer.es/[node:path]
SUMMARY:Grup online: què passa que no em recordo?
CLASS:PUBLIC
DESCRIPTION:Intervenció grupal\, amb un total de 8 sessions setmanals\, qu
 e té com\nobjectiu facilitar la comprensió sobre el fenòmen \"Chemobrai
 n\" i\nconèixer diferents tècniques d'estimulació cognitiva. \n\nPER A
  PARTICIPAR ÉS NECESSARI REALITZAR UNA ENTREVISTA PRÈVIA.\n\nLES INSCRIP
 CIONS ES TANCARAN UNA SETMANA ABANS DE L'INICI DEL GRUP.\n
X-ALT-DESC;FMTTYPE=text/html:<p>Intervenció grupal\, amb un total de 8 ses
 sions setmanals\, que té com objectiu facilitar la comprensió sobre el f
 enòmen \"Chemobrain\" i conèixer diferents tècniques d'estimulació cog
 nitiva. </p>\n\n<p><strong>Per a participar és necessari realitzar una e
 ntrevista prèvia.</strong></p>\n\n<p><strong>Les inscripcions es tancaran
  una setmana abans de l'inici del grup.</strong></p>
DTSTAMP:20260420T053422Z
END:VEVENT
END:VCALENDAR