BEGIN:VCALENDAR
VERSION:2.0
PRODID:www.contraelcancer.es
X-WR-TIMEZONE:Europe/Madrid
X-PUBLISHED-TTL:P1W
BEGIN:VTIMEZONE
TZID:Europe/Madrid
X-LIC-LOCATION:Europe/Madrid
BEGIN:DAYLIGHT
TZNAME:CEST
TZOFFSETFROM:+0100
TZOFFSETTO:+0200
DTSTART:20260329T010000
END:DAYLIGHT
BEGIN:DAYLIGHT
TZNAME:CEST
TZOFFSETFROM:+0100
TZOFFSETTO:+0200
DTSTART:20270328T010000
END:DAYLIGHT
BEGIN:STANDARD
TZNAME:CET
TZOFFSETFROM:+0200
TZOFFSETTO:+0100
DTSTART:20251026T010000
END:STANDARD
BEGIN:STANDARD
TZNAME:CET
TZOFFSETFROM:+0200
TZOFFSETTO:+0100
DTSTART:20261025T010000
END:STANDARD
END:VTIMEZONE
BEGIN:VEVENT
UID:a13383661402fbd87accce654376e43d
DTSTART;TZID=Europe/Madrid:20260529T120000
SEQUENCE:0
TRANSP:OPAQUE
URL:https://www.contraelcancer.es/[node:path]
SUMMARY:Taller higiene del sueño. Online. (Traducción simultánea en leng
 ua de signos)
CLASS:PUBLIC
DESCRIPTION:En este taller facilitaremos la información contrastada respet
 o a la\nhigiene del sueño a personas que sufran dificultades para concili
 ar o\nmantener el sueño. Se facilitarán herramientas para una mejor\nada
 ptación a esta situación.\n\nESTE TALLER CONTARÁ CON TRADUCCIÓN SIMULT
 ÁNEA EN LENGUA DE SIGNOS.\n
X-ALT-DESC;FMTTYPE=text/html:<p>En este taller facilitaremos la informació
 n contrastada respeto a la higiene del sueño a personas que sufran dificu
 ltades para conciliar o mantener el sueño. Se facilitarán herramientas p
 ara una mejor adaptación a esta situación.</p>\n\n<p><strong>Este taller
  contará con traducción simultánea en lengua de signos.</strong></p>
DTSTAMP:20260420T102734Z
END:VEVENT
END:VCALENDAR