BEGIN:VCALENDAR
VERSION:2.0
PRODID:www.contraelcancer.es
X-WR-TIMEZONE:Europe/Madrid
X-PUBLISHED-TTL:P1W
BEGIN:VTIMEZONE
TZID:Europe/Madrid
X-LIC-LOCATION:Europe/Madrid
BEGIN:DAYLIGHT
TZNAME:CEST
TZOFFSETFROM:+0100
TZOFFSETTO:+0200
DTSTART:20260329T010000
END:DAYLIGHT
BEGIN:DAYLIGHT
TZNAME:CEST
TZOFFSETFROM:+0100
TZOFFSETTO:+0200
DTSTART:20270328T010000
END:DAYLIGHT
BEGIN:STANDARD
TZNAME:CET
TZOFFSETFROM:+0200
TZOFFSETTO:+0100
DTSTART:20251026T010000
END:STANDARD
BEGIN:STANDARD
TZNAME:CET
TZOFFSETFROM:+0200
TZOFFSETTO:+0100
DTSTART:20261025T010000
END:STANDARD
END:VTIMEZONE
BEGIN:VEVENT
UID:62ff064a2c468694c2b6c1de94ba5637
DTSTART;TZID=Europe/Madrid:20260520T110000
SEQUENCE:0
TRANSP:OPAQUE
URL:https://www.contraelcancer.es/[node:path]
SUMMARY:Certificado digital y mi carpeta ciudadana. Online.
CLASS:PUBLIC
DESCRIPTION:Permitirá a los asistentes a concienciarse de la importancia d
 e hacer\nun testamento y planificar su herencia.\n\n1. Planificar\n2. Hace
 r testamento\n3. Impuestos\n4. Testamento vital y poder preventivo\n \n
X-ALT-DESC;FMTTYPE=text/html:<p>Permitirá a los asistentes a concienciarse
  de la importancia de hacer un testamento y planificar su herencia.</p>\n\
 n<p>1. Planificar<br />\n2. Hacer testamento<br />\n3. Impuestos<br />\n4.
  Testamento vital y poder preventivo<br />\n </p>
DTSTAMP:20260420T104015Z
END:VEVENT
END:VCALENDAR