BEGIN:VCALENDAR
VERSION:2.0
PRODID:www.contraelcancer.es
X-WR-TIMEZONE:Europe/Madrid
X-PUBLISHED-TTL:P1W
BEGIN:VTIMEZONE
TZID:Europe/Madrid
X-LIC-LOCATION:Europe/Madrid
BEGIN:DAYLIGHT
TZNAME:CEST
TZOFFSETFROM:+0100
TZOFFSETTO:+0200
DTSTART:20260329T010000
END:DAYLIGHT
BEGIN:DAYLIGHT
TZNAME:CEST
TZOFFSETFROM:+0100
TZOFFSETTO:+0200
DTSTART:20270328T010000
END:DAYLIGHT
BEGIN:STANDARD
TZNAME:CET
TZOFFSETFROM:+0200
TZOFFSETTO:+0100
DTSTART:20251026T010000
END:STANDARD
BEGIN:STANDARD
TZNAME:CET
TZOFFSETFROM:+0200
TZOFFSETTO:+0100
DTSTART:20261025T010000
END:STANDARD
END:VTIMEZONE
BEGIN:VEVENT
UID:2857771270c45a5a54062935febefd9a
DTSTART;TZID=Europe/Madrid:20260505T173000
SEQUENCE:0
TRANSP:OPAQUE
URL:https://www.contraelcancer.es/[node:path]
SUMMARY:AFRONTANDO TU PÉRDIDA
CLASS:PUBLIC
DESCRIPTION:Dirigido a familiares en duelo\n\n📅 5 de mayo (sesión úni
 ca)\n\n⏰ 17h\n\n📍 Formato mixto: presencial y online\, según tus p
 referencias\n\n🗣️ Imparte: Celia González Perona\n
X-ALT-DESC;FMTTYPE=text/html:<p>Dirigido a familiares en duelo</p>\n\n<p>
 📅 5 de mayo (sesión única)</p>\n\n<p>⏰ 17h</p>\n\n<p>📍 Format
 o mixto: presencial y online\, según tus preferencias</p>\n\n<p>🗣️ 
 Imparte: Celia González Perona</p>
DTSTAMP:20260420T160351Z
END:VEVENT
END:VCALENDAR