BEGIN:VCALENDAR
VERSION:2.0
PRODID:www.contraelcancer.es
X-WR-TIMEZONE:Europe/Madrid
X-PUBLISHED-TTL:P1W
BEGIN:VTIMEZONE
TZID:Europe/Madrid
X-LIC-LOCATION:Europe/Madrid
BEGIN:DAYLIGHT
TZNAME:CEST
TZOFFSETFROM:+0100
TZOFFSETTO:+0200
DTSTART:20260329T010000
END:DAYLIGHT
BEGIN:DAYLIGHT
TZNAME:CEST
TZOFFSETFROM:+0100
TZOFFSETTO:+0200
DTSTART:20270328T010000
END:DAYLIGHT
BEGIN:STANDARD
TZNAME:CET
TZOFFSETFROM:+0200
TZOFFSETTO:+0100
DTSTART:20251026T010000
END:STANDARD
BEGIN:STANDARD
TZNAME:CET
TZOFFSETFROM:+0200
TZOFFSETTO:+0100
DTSTART:20261025T010000
END:STANDARD
END:VTIMEZONE
BEGIN:VEVENT
UID:4dba0fcb8f8811b41aa5731c1d1b663f
DTSTART;TZID=Europe/Madrid:20260518T160000
SEQUENCE:0
TRANSP:OPAQUE
URL:https://www.contraelcancer.es/[node:path]
SUMMARY:Taller Duelo y Vacaciones - EIBAR
CLASS:PUBLIC
DESCRIPTION:Esta es una intervención psicoeducativa breve dirigida a perso
 nas que\nhan perdido a un ser querido por cáncer y que se enfrentan a los
 \nperiodos vacacionales sin él o ella. Su finalidad es normalizar las\ndi
 ficultades y los miedos que pueden surgir al salir de la rutina que\nhan c
 onstruido con esfuerzo así como movilizar actitudes y recursos\nque les p
 ermitan vivir el periodo vacacional de la mejor forma posible\nrespetando 
 las necesidades de su proceso de duelo. \n
X-ALT-DESC;FMTTYPE=text/html:<p>Esta es una intervención psicoeducativa br
 eve dirigida a personas que han perdido a un ser querido por cáncer y que
  se enfrentan a los periodos vacacionales sin él o ella. Su finalidad es 
 normalizar las dificultades y los miedos que pueden surgir al salir de la 
 rutina que han construido con esfuerzo así como movilizar actitudes y rec
 ursos que les permitan vivir el periodo vacacional de la mejor forma posib
 le respetando las necesidades de su proceso de duelo. </p>
DTSTAMP:20260421T065800Z
END:VEVENT
END:VCALENDAR