BEGIN:VCALENDAR
VERSION:2.0
PRODID:www.contraelcancer.es
X-WR-TIMEZONE:Europe/Madrid
X-PUBLISHED-TTL:P1W
BEGIN:VTIMEZONE
TZID:Europe/Madrid
X-LIC-LOCATION:Europe/Madrid
BEGIN:DAYLIGHT
TZNAME:CEST
TZOFFSETFROM:+0100
TZOFFSETTO:+0200
DTSTART:20260329T010000
END:DAYLIGHT
BEGIN:DAYLIGHT
TZNAME:CEST
TZOFFSETFROM:+0100
TZOFFSETTO:+0200
DTSTART:20270328T010000
END:DAYLIGHT
BEGIN:STANDARD
TZNAME:CET
TZOFFSETFROM:+0200
TZOFFSETTO:+0100
DTSTART:20251026T010000
END:STANDARD
BEGIN:STANDARD
TZNAME:CET
TZOFFSETFROM:+0200
TZOFFSETTO:+0100
DTSTART:20261025T010000
END:STANDARD
END:VTIMEZONE
BEGIN:VEVENT
UID:389a8aa51b7f27c96c0b0848703f1929
DTSTART;TZID=Europe/Madrid:20260514T100000
SEQUENCE:0
TRANSP:OPAQUE
URL:https://www.contraelcancer.es/[node:path]
SUMMARY:Pautes d&#039\;autocura de la pell. Online.
CLASS:PUBLIC
DESCRIPTION:Durant els tractaments oncològics\, la pell pot patir canvis q
 ue\nafecten el confort i el benestar. En aquesta xerrada\, les voluntàrie
 s\nde la Fundació Ricardo Fisas – Natura Bissé oferiran recomanacions\
 npràctiques per mantenir una bona hidratació\, prevenir molèsties i\ncu
 idar la pell amb rutines senzilles. Una sessió propera que promou\nl’au
 tocura i la salut de la pell durant el procés de tractament.\n
X-ALT-DESC;FMTTYPE=text/html:<p>Durant els tractaments oncològics\, la pel
 l pot patir canvis que afecten el confort i el benestar. En aquesta xerrad
 a\, les voluntàries de la Fundació Ricardo Fisas – Natura Bissé oferi
 ran recomanacions pràctiques per mantenir una bona hidratació\, prevenir
  molèsties i cuidar la pell amb rutines senzilles. Una sessió propera qu
 e promou l’autocura i la salut de la pell durant el procés de tractamen
 t.</p>
DTSTAMP:20260416T073303Z
END:VEVENT
END:VCALENDAR