BEGIN:VCALENDAR
VERSION:2.0
PRODID:www.contraelcancer.es
X-WR-TIMEZONE:Europe/Madrid
X-PUBLISHED-TTL:P1W
BEGIN:VTIMEZONE
TZID:Europe/Madrid
X-LIC-LOCATION:Europe/Madrid
BEGIN:DAYLIGHT
TZNAME:CEST
TZOFFSETFROM:+0100
TZOFFSETTO:+0200
DTSTART:20260329T010000
END:DAYLIGHT
BEGIN:DAYLIGHT
TZNAME:CEST
TZOFFSETFROM:+0100
TZOFFSETTO:+0200
DTSTART:20270328T010000
END:DAYLIGHT
BEGIN:STANDARD
TZNAME:CET
TZOFFSETFROM:+0200
TZOFFSETTO:+0100
DTSTART:20251026T010000
END:STANDARD
BEGIN:STANDARD
TZNAME:CET
TZOFFSETFROM:+0200
TZOFFSETTO:+0100
DTSTART:20261025T010000
END:STANDARD
END:VTIMEZONE
BEGIN:VEVENT
UID:56ca9513472ca90a4491c34291c6a968
DTSTART;TZID=Europe/Madrid:20260515T100000
SEQUENCE:0
TRANSP:OPAQUE
URL:https://www.contraelcancer.es/[node:path]
SUMMARY:Comunicació i cures. Online. (Traducció simultània en llengua de
  signes)
CLASS:PUBLIC
DESCRIPTION:Parlarem de la bonica i complexa tasca del cuidar i les seves\n
 implicacions. Facilitarem eines per la millora de la comunicació en\naque
 st moment de la vida\, i parlarem de la importància de l'autocura.\n\nDir
 igida a familiars de pacients amb càncer.\n\nEL TALLER COMPTARÀ AMB LA T
 RADUCCIÓ SIMULTÀNIA EN LLENGUA DE\nSIGNES.\n
X-ALT-DESC;FMTTYPE=text/html:<p>Parlarem de la bonica i complexa tasca del 
 cuidar i les seves implicacions. Facilitarem eines per la millora de la co
 municació en aquest moment de la vida\, i parlarem de la importància de 
 l'autocura.</p>\n\n<p>Dirigida a familiars de pacients amb càncer.</p>\n\
 n<p><strong>El taller comptarà amb la traducció simultània en llengua d
 e signes.</strong></p>
DTSTAMP:20260416T075113Z
END:VEVENT
END:VCALENDAR