BEGIN:VCALENDAR
VERSION:2.0
PRODID:www.contraelcancer.es
X-WR-TIMEZONE:Europe/Madrid
X-PUBLISHED-TTL:P1W
BEGIN:VTIMEZONE
TZID:Europe/Madrid
X-LIC-LOCATION:Europe/Madrid
BEGIN:DAYLIGHT
TZNAME:CEST
TZOFFSETFROM:+0100
TZOFFSETTO:+0200
DTSTART:20260329T010000
END:DAYLIGHT
BEGIN:DAYLIGHT
TZNAME:CEST
TZOFFSETFROM:+0100
TZOFFSETTO:+0200
DTSTART:20270328T010000
END:DAYLIGHT
BEGIN:STANDARD
TZNAME:CET
TZOFFSETFROM:+0200
TZOFFSETTO:+0100
DTSTART:20251026T010000
END:STANDARD
BEGIN:STANDARD
TZNAME:CET
TZOFFSETFROM:+0200
TZOFFSETTO:+0100
DTSTART:20261025T010000
END:STANDARD
END:VTIMEZONE
BEGIN:VEVENT
UID:945e03cc9e0ad2409ab0c135214c7cda
DTSTART;TZID=Europe/Madrid:20260520T163000
SEQUENCE:0
TRANSP:OPAQUE
URL:https://www.contraelcancer.es/[node:path]
SUMMARY:Club Social: Taller de ganxet. Igualada.
CLASS:PUBLIC
DESCRIPTION:Taller dirigit a persones que volen iniciar-se en la tècnica d
 el\nganxet o simplement gaudir d’una bona estona fent manualitats.\n\nEl
  taller es realitzarà cada 15 dies\, dos cop al mes.\n\nLloc: Punt Comarc
 al de l'Anoia. Rambla Nova\, 32\, 08700 Igualada\n
X-ALT-DESC;FMTTYPE=text/html:<p>Taller dirigit a persones que volen iniciar
 -se en la tècnica del ganxet o simplement gaudir d’una bona estona fent
  manualitats.</p>\n\n<p>El taller es realitzarà cada 15 dies\, dos cop al
  mes.</p>\n\n<p>Lloc: Punt Comarcal de l'Anoia. Rambla Nova\, 32\, 08700 I
 gualada</p>
DTSTAMP:20260420T054238Z
END:VEVENT
END:VCALENDAR