BEGIN:VCALENDAR
VERSION:2.0
PRODID:www.contraelcancer.es
X-WR-TIMEZONE:Europe/Madrid
X-PUBLISHED-TTL:P1W
BEGIN:VTIMEZONE
TZID:Europe/Madrid
X-LIC-LOCATION:Europe/Madrid
BEGIN:DAYLIGHT
TZNAME:CEST
TZOFFSETFROM:+0100
TZOFFSETTO:+0200
DTSTART:20260329T010000
END:DAYLIGHT
BEGIN:DAYLIGHT
TZNAME:CEST
TZOFFSETFROM:+0100
TZOFFSETTO:+0200
DTSTART:20270328T010000
END:DAYLIGHT
BEGIN:STANDARD
TZNAME:CET
TZOFFSETFROM:+0200
TZOFFSETTO:+0100
DTSTART:20251026T010000
END:STANDARD
BEGIN:STANDARD
TZNAME:CET
TZOFFSETFROM:+0200
TZOFFSETTO:+0100
DTSTART:20261025T010000
END:STANDARD
END:VTIMEZONE
BEGIN:VEVENT
UID:ba6481a4820454a41880a689f0bf95ba
DTSTART;TZID=Europe/Madrid:20260609T120000
SEQUENCE:0
TRANSP:OPAQUE
URL:https://www.contraelcancer.es/[node:path]
SUMMARY:Taller de autocuidado &#039\;No te olvides de ti&#039\; - GIPUZKOA
CLASS:PUBLIC
DESCRIPTION: \n\nTaller de tres sesiones. Taller para fomentar el autocuid
 ado\, prevenir\nel desgaste socioemocional y la claudicación en el cuidad
 o\nfacilitando estrategias de  manejo emocional\, cuidado postural...\n\
 nTaller impartido de forma multidisciplinar.. Donde se darán pautas\npara
  el cuidado físico y emocional de los pacientes.\n\nGrupos abiertos todo 
 el año\n\n*La inscripción no confirma plaza\n
X-ALT-DESC;FMTTYPE=text/html:<p> </p>\n\n<p>Taller de tres sesiones. Talle
 r para fomentar el autocuidado\, prevenir el desgaste socioemocional y la 
 claudicación en el cuidado facilitando estrategias de  manejo emocional
 \, cuidado postural...</p>\n\n<p>Taller impartido de forma multidisciplina
 r.. Donde se darán pautas para el cuidado físico y emocional de los paci
 entes.</p>\n\n<p>Grupos abiertos todo el año</p>\n\n<p>*La inscripción n
 o confirma plaza</p>
DTSTAMP:20260421T065007Z
END:VEVENT
BEGIN:VEVENT
UID:7642c84ea02cfeb6044eb3c83484af59
DTSTART;TZID=Europe/Madrid:20260616T120000
SEQUENCE:0
TRANSP:OPAQUE
URL:https://www.contraelcancer.es/[node:path]
SUMMARY:Taller de autocuidado &#039\;No te olvides de ti&#039\; - GIPUZKOA
CLASS:PUBLIC
DESCRIPTION: \n\nTaller de tres sesiones. Taller para fomentar el autocuid
 ado\, prevenir\nel desgaste socioemocional y la claudicación en el cuidad
 o\nfacilitando estrategias de  manejo emocional\, cuidado postural...\n\
 nTaller impartido de forma multidisciplinar.. Donde se darán pautas\npara
  el cuidado físico y emocional de los pacientes.\n\nGrupos abiertos todo 
 el año\n\n*La inscripción no confirma plaza\n
X-ALT-DESC;FMTTYPE=text/html:<p> </p>\n\n<p>Taller de tres sesiones. Talle
 r para fomentar el autocuidado\, prevenir el desgaste socioemocional y la 
 claudicación en el cuidado facilitando estrategias de  manejo emocional
 \, cuidado postural...</p>\n\n<p>Taller impartido de forma multidisciplina
 r.. Donde se darán pautas para el cuidado físico y emocional de los paci
 entes.</p>\n\n<p>Grupos abiertos todo el año</p>\n\n<p>*La inscripción n
 o confirma plaza</p>
DTSTAMP:20260421T065007Z
END:VEVENT
BEGIN:VEVENT
UID:a3f8d140a056fdf7b7ed51dc6df20d12
DTSTART;TZID=Europe/Madrid:20260623T120000
SEQUENCE:0
TRANSP:OPAQUE
URL:https://www.contraelcancer.es/[node:path]
SUMMARY:Taller de autocuidado &#039\;No te olvides de ti&#039\; - GIPUZKOA
CLASS:PUBLIC
DESCRIPTION: \n\nTaller de tres sesiones. Taller para fomentar el autocuid
 ado\, prevenir\nel desgaste socioemocional y la claudicación en el cuidad
 o\nfacilitando estrategias de  manejo emocional\, cuidado postural...\n\
 nTaller impartido de forma multidisciplinar.. Donde se darán pautas\npara
  el cuidado físico y emocional de los pacientes.\n\nGrupos abiertos todo 
 el año\n\n*La inscripción no confirma plaza\n
X-ALT-DESC;FMTTYPE=text/html:<p> </p>\n\n<p>Taller de tres sesiones. Talle
 r para fomentar el autocuidado\, prevenir el desgaste socioemocional y la 
 claudicación en el cuidado facilitando estrategias de  manejo emocional
 \, cuidado postural...</p>\n\n<p>Taller impartido de forma multidisciplina
 r.. Donde se darán pautas para el cuidado físico y emocional de los paci
 entes.</p>\n\n<p>Grupos abiertos todo el año</p>\n\n<p>*La inscripción n
 o confirma plaza</p>
DTSTAMP:20260421T065007Z
END:VEVENT
END:VCALENDAR