BEGIN:VCALENDAR
VERSION:2.0
PRODID:www.contraelcancer.es
X-WR-TIMEZONE:Europe/Madrid
X-PUBLISHED-TTL:P1W
BEGIN:VTIMEZONE
TZID:Europe/Madrid
X-LIC-LOCATION:Europe/Madrid
BEGIN:DAYLIGHT
TZNAME:CEST
TZOFFSETFROM:+0100
TZOFFSETTO:+0200
DTSTART:20260329T010000
END:DAYLIGHT
BEGIN:DAYLIGHT
TZNAME:CEST
TZOFFSETFROM:+0100
TZOFFSETTO:+0200
DTSTART:20270328T010000
END:DAYLIGHT
BEGIN:STANDARD
TZNAME:CET
TZOFFSETFROM:+0200
TZOFFSETTO:+0100
DTSTART:20251026T010000
END:STANDARD
BEGIN:STANDARD
TZNAME:CET
TZOFFSETFROM:+0200
TZOFFSETTO:+0100
DTSTART:20261025T010000
END:STANDARD
END:VTIMEZONE
BEGIN:VEVENT
UID:bb81373251ee4bf115845f344ba147fa
DTSTART;TZID=Europe/Madrid:20260519T100000
SEQUENCE:0
TRANSP:OPAQUE
URL:https://www.contraelcancer.es/[node:path]
SUMMARY:Grup Millorant el benestar emocional. Online
CLASS:PUBLIC
DESCRIPTION:Intervenció grupal\, amb un total de 5 sessions setmanals\, on
 \ns'aborden les necessitats més comuns dels pacients en tractament\nactiu
 .\n\nPER A PARTICIPAR ÉS NECESSARI REALITZAR UNA ENTREVISTA PRÈVIA.\n\nL
 ES INSCRIPCIONS ES TANCARAN UNA SETMANA ABANS DE L'INICI DEL GRUP.\n
X-ALT-DESC;FMTTYPE=text/html:<p>Intervenció grupal\, amb un total de 5 ses
 sions setmanals\, on s'aborden les necessitats més comuns dels pacients e
 n tractament actiu.</p>\n\n<p><strong>Per a participar és necessari reali
 tzar una entrevista prèvia.</strong></p>\n\n<p><strong>Les inscripcions e
 s tancaran una setmana abans de l'inici del grup.</strong></p>
DTSTAMP:20260420T053540Z
END:VEVENT
END:VCALENDAR