BEGIN:VCALENDAR
VERSION:2.0
PRODID:www.contraelcancer.es
X-WR-TIMEZONE:Europe/Madrid
X-PUBLISHED-TTL:P1W
BEGIN:VTIMEZONE
TZID:Europe/Madrid
X-LIC-LOCATION:Europe/Madrid
BEGIN:DAYLIGHT
TZNAME:CEST
TZOFFSETFROM:+0100
TZOFFSETTO:+0200
DTSTART:20260329T010000
END:DAYLIGHT
BEGIN:DAYLIGHT
TZNAME:CEST
TZOFFSETFROM:+0100
TZOFFSETTO:+0200
DTSTART:20270328T010000
END:DAYLIGHT
BEGIN:STANDARD
TZNAME:CET
TZOFFSETFROM:+0200
TZOFFSETTO:+0100
DTSTART:20251026T010000
END:STANDARD
BEGIN:STANDARD
TZNAME:CET
TZOFFSETFROM:+0200
TZOFFSETTO:+0100
DTSTART:20261025T010000
END:STANDARD
END:VTIMEZONE
BEGIN:VEVENT
UID:0e1b5796837b6e0137d4c4591c7a5eac
DTSTART;TZID=Europe/Madrid:20260526T113000
SEQUENCE:0
TRANSP:OPAQUE
URL:https://www.contraelcancer.es/[node:path]
SUMMARY:Ansiedad y estrés. Online
CLASS:PUBLIC
DESCRIPTION:En este taller de 3 sesiones online\, conoceremos aspectos bás
 icos de\nla ansiedad y pondremos en práctica diferentes técnicas de\nrel
 ajación.\n
X-ALT-DESC;FMTTYPE=text/html:<p>En este taller de 3 sesiones online\, conoc
 eremos aspectos básicos de la ansiedad y pondremos en práctica diferente
 s técnicas de relajación.</p>
DTSTAMP:20260420T100937Z
END:VEVENT
END:VCALENDAR