BEGIN:VCALENDAR
VERSION:2.0
PRODID:www.contraelcancer.es
X-WR-TIMEZONE:Europe/Madrid
X-PUBLISHED-TTL:P1W
BEGIN:VTIMEZONE
TZID:Europe/Madrid
X-LIC-LOCATION:Europe/Madrid
BEGIN:DAYLIGHT
TZNAME:CEST
TZOFFSETFROM:+0100
TZOFFSETTO:+0200
DTSTART:20260329T010000
END:DAYLIGHT
BEGIN:DAYLIGHT
TZNAME:CEST
TZOFFSETFROM:+0100
TZOFFSETTO:+0200
DTSTART:20270328T010000
END:DAYLIGHT
BEGIN:STANDARD
TZNAME:CET
TZOFFSETFROM:+0200
TZOFFSETTO:+0100
DTSTART:20251026T010000
END:STANDARD
BEGIN:STANDARD
TZNAME:CET
TZOFFSETFROM:+0200
TZOFFSETTO:+0100
DTSTART:20261025T010000
END:STANDARD
END:VTIMEZONE
BEGIN:VEVENT
UID:7aac74b9b748c730162f0b851debf811
DTSTART;TZID=Europe/Madrid:20261020T120000
SEQUENCE:0
TRANSP:OPAQUE
URL:https://www.contraelcancer.es/[node:path]
SUMMARY:Charla - &#039\;Cómo hablar de cáncer con menores&#039\; - DONOST
 IA
CLASS:PUBLIC
DESCRIPTION:Charla donde se darán pautas sencillas de comunicación de mal
 as\nnoticias según edad y capacidad del menor.  \n\nTambién se orienta
 rá sobre dudas frecuentes\, y ayudará a\nprogenitores en el manejo de si
 tuaciones complejas.  \n\nPersona que imparte: Paula Lancao\, psicóloga
  infantojuvenil de Contra\nel cáncer.\n\n \n
X-ALT-DESC;FMTTYPE=text/html:<p>Charla donde se darán pautas sencillas de 
 comunicación de malas noticias según edad y capacidad del menor.  </p>
 \n\n<p>También se orientará sobre dudas frecuentes\, y ayudará a progen
 itores en el manejo de situaciones complejas.  </p>\n\n<p>Persona que im
 parte: Paula Lancao\, psicóloga infantojuvenil de Contra el cáncer.</p>\
 n\n<p> </p>
DTSTAMP:20260421T065335Z
END:VEVENT
END:VCALENDAR