BEGIN:VCALENDAR
VERSION:2.0
PRODID:www.contraelcancer.es
X-WR-TIMEZONE:Europe/Madrid
X-PUBLISHED-TTL:P1W
BEGIN:VTIMEZONE
TZID:Europe/Madrid
X-LIC-LOCATION:Europe/Madrid
BEGIN:DAYLIGHT
TZNAME:CEST
TZOFFSETFROM:+0100
TZOFFSETTO:+0200
DTSTART:20260329T010000
END:DAYLIGHT
BEGIN:DAYLIGHT
TZNAME:CEST
TZOFFSETFROM:+0100
TZOFFSETTO:+0200
DTSTART:20270328T010000
END:DAYLIGHT
BEGIN:STANDARD
TZNAME:CET
TZOFFSETFROM:+0200
TZOFFSETTO:+0100
DTSTART:20251026T010000
END:STANDARD
BEGIN:STANDARD
TZNAME:CET
TZOFFSETFROM:+0200
TZOFFSETTO:+0100
DTSTART:20261025T010000
END:STANDARD
END:VTIMEZONE
BEGIN:VEVENT
UID:a6be87cca2874386edb4542844940689
DTSTART;TZID=Europe/Madrid:20260427T160000
SEQUENCE:0
TRANSP:OPAQUE
URL:https://www.contraelcancer.es/[node:path]
SUMMARY:Taller de Prevención del Linfedema en Cáceres
CLASS:PUBLIC
DESCRIPTION:Taller de Prevención del Linfedema para personas operadas de c
 áncer\nde mama donde aprenderás qué es el linfedema y cómo prevenirlo.
 \n
X-ALT-DESC;FMTTYPE=text/html:<p>Taller de Prevención del Linfedema para pe
 rsonas operadas de cáncer de mama donde aprenderás qué es el linfedema 
 y cómo prevenirlo.</p>
DTSTAMP:20260421T103433Z
END:VEVENT
END:VCALENDAR