BEGIN:VCALENDAR
VERSION:2.0
PRODID:www.contraelcancer.es
X-WR-TIMEZONE:Europe/Madrid
X-PUBLISHED-TTL:P1W
BEGIN:VTIMEZONE
TZID:Europe/Madrid
X-LIC-LOCATION:Europe/Madrid
BEGIN:DAYLIGHT
TZNAME:CEST
TZOFFSETFROM:+0100
TZOFFSETTO:+0200
DTSTART:20260329T010000
END:DAYLIGHT
BEGIN:DAYLIGHT
TZNAME:CEST
TZOFFSETFROM:+0100
TZOFFSETTO:+0200
DTSTART:20270328T010000
END:DAYLIGHT
BEGIN:STANDARD
TZNAME:CET
TZOFFSETFROM:+0200
TZOFFSETTO:+0100
DTSTART:20251026T010000
END:STANDARD
BEGIN:STANDARD
TZNAME:CET
TZOFFSETFROM:+0200
TZOFFSETTO:+0100
DTSTART:20261025T010000
END:STANDARD
END:VTIMEZONE
BEGIN:VEVENT
UID:ba636be39847cae74a9efd3492a34ebc
DTSTART;TZID=Europe/Madrid:20260430T100000
SEQUENCE:0
TRANSP:OPAQUE
URL:https://www.contraelcancer.es/[node:path]
SUMMARY:Concienciar en azul: diagnóstico precoz e investigación\, aliados
  en el camino contra el cáncer de próstata
CLASS:PUBLIC
DESCRIPTION:HABLAREMOS DEL CÁNCER DE PRÓSTATA\, Y DEL PAPEL DE LA DETECCI
 ÓN\nPRECOZ Y LA INVESTIGACIÓN. CONOCEREMOS INICIATIVAS QUE ESTÁN\nLLEVA
 NDO A CABO LAS EMPRESAS Y SE PRESENTARÁ EL NUEVO GEL SOLIDARIO\nIA DE INT
 ERAPOTHEK Y FUNDACIÓN HEFAME. AL FINALIZAR\, EL PÚBLICO\nPODRÁ PARTICIP
 AR EN LA TERTULIA Y COMPARTIR UN CAFÉ NETWORKING.\n
X-ALT-DESC;FMTTYPE=text/html:<p>HABLAREMOS DEL CÁNCER DE PRÓSTATA\, Y DEL
  PAPEL DE LA DETECCIÓN PRECOZ Y LA INVESTIGACIÓN. CONOCEREMOS INICIATIVA
 S QUE ESTÁN LLEVANDO A CABO LAS EMPRESAS Y SE PRESENTARÁ EL NUEVO GEL SO
 LIDARIO IA DE INTERAPOTHEK Y FUNDACIÓN HEFAME. AL FINALIZAR\, EL PÚBLICO
  PODRÁ PARTICIPAR EN LA TERTULIA Y COMPARTIR UN CAFÉ NETWORKING.</p>
DTSTAMP:20260422T142845Z
END:VEVENT
END:VCALENDAR