BEGIN:VCALENDAR
VERSION:2.0
PRODID:www.contraelcancer.es
X-WR-TIMEZONE:Europe/Madrid
X-PUBLISHED-TTL:P1W
BEGIN:VTIMEZONE
TZID:Europe/Madrid
X-LIC-LOCATION:Europe/Madrid
BEGIN:DAYLIGHT
TZNAME:CEST
TZOFFSETFROM:+0100
TZOFFSETTO:+0200
DTSTART:20260329T010000
END:DAYLIGHT
BEGIN:DAYLIGHT
TZNAME:CEST
TZOFFSETFROM:+0100
TZOFFSETTO:+0200
DTSTART:20270328T010000
END:DAYLIGHT
BEGIN:STANDARD
TZNAME:CET
TZOFFSETFROM:+0200
TZOFFSETTO:+0100
DTSTART:20251026T010000
END:STANDARD
BEGIN:STANDARD
TZNAME:CET
TZOFFSETFROM:+0200
TZOFFSETTO:+0100
DTSTART:20261025T010000
END:STANDARD
END:VTIMEZONE
BEGIN:VEVENT
UID:fd7a33083096341484adb613c5fa63a1
DTSTART;TZID=Europe/Madrid:20260519T163000
SEQUENCE:0
TRANSP:OPAQUE
URL:https://www.contraelcancer.es/[node:path]
SUMMARY:Club de Lectura. Espai Domum Broggi. Edificio B
CLASS:PUBLIC
DESCRIPTION:Espacio para compartir lecturas. Los libros se escogen conjunta
 mente y\ndespués se realiza un espacio de intercambio y reflexiones.\n\nL
 a actividad se realizará en el Hospital Broggi. Espai Domum Broggi.\nEdi
 ficio B.\n\n \n\n \n
X-ALT-DESC;FMTTYPE=text/html:<p>Espacio para compartir lecturas. Los libros
  se escogen conjuntamente y después se realiza un espacio de intercambio 
 y reflexiones.</p>\n\n<p>La actividad se realizará en el Hospital Broggi
 . Espai Domum Broggi. Edificio B.</p>\n\n<p> </p>\n\n<p> </p>
DTSTAMP:20260420T052923Z
END:VEVENT
END:VCALENDAR