BEGIN:VCALENDAR
VERSION:2.0
PRODID:www.contraelcancer.es
X-WR-TIMEZONE:Europe/Madrid
X-PUBLISHED-TTL:P1W
BEGIN:VTIMEZONE
TZID:Europe/Madrid
X-LIC-LOCATION:Europe/Madrid
BEGIN:DAYLIGHT
TZNAME:CEST
TZOFFSETFROM:+0100
TZOFFSETTO:+0200
DTSTART:20260329T010000
END:DAYLIGHT
BEGIN:DAYLIGHT
TZNAME:CEST
TZOFFSETFROM:+0100
TZOFFSETTO:+0200
DTSTART:20270328T010000
END:DAYLIGHT
BEGIN:STANDARD
TZNAME:CET
TZOFFSETFROM:+0200
TZOFFSETTO:+0100
DTSTART:20251026T010000
END:STANDARD
BEGIN:STANDARD
TZNAME:CET
TZOFFSETFROM:+0200
TZOFFSETTO:+0100
DTSTART:20261025T010000
END:STANDARD
END:VTIMEZONE
BEGIN:VEVENT
UID:795ad41173155e964ba25a3b5d727a70
DTSTART;TZID=Europe/Madrid:20260513T110000
SEQUENCE:0
TRANSP:OPAQUE
URL:https://www.contraelcancer.es/[node:path]
SUMMARY:Taller en Murcia “Convivir con la incertidumbre en cáncer” (pa
 ra pacientes y familiares)
CLASS:PUBLIC
DESCRIPTION:Herramientas psicológicas para pacientes y familiares.\n\nEn e
 ste taller trabajaremos estrategias para manejar la incertidumbre\nque gen
 eran el diagnóstico y los tratamientos médicos\; los cambios\nvitales\, 
 las emociones y los temores.\n\n \n\nTALLER EXCLUSIVO PARA PACIENTES Y FA
 MILARES\n
X-ALT-DESC;FMTTYPE=text/html:<p>Herramientas psicológicas para pacientes y
  familiares.</p>\n\n<p>En este taller trabajaremos estrategias para maneja
 r la incertidumbre que generan el diagnóstico y los tratamientos médicos
 \; los cambios vitales\, las emociones y los temores.</p>\n\n<p> </p>\n\n
 <p><strong>TALLER EXCLUSIVO PARA PACIENTES Y FAMILARES</strong></p>
DTSTAMP:20260422T082041Z
END:VEVENT
END:VCALENDAR