BEGIN:VCALENDAR
VERSION:2.0
PRODID:www.contraelcancer.es
X-WR-TIMEZONE:Europe/Madrid
X-PUBLISHED-TTL:P1W
BEGIN:VTIMEZONE
TZID:Europe/Madrid
X-LIC-LOCATION:Europe/Madrid
BEGIN:DAYLIGHT
TZNAME:CEST
TZOFFSETFROM:+0100
TZOFFSETTO:+0200
DTSTART:20260329T010000
END:DAYLIGHT
BEGIN:DAYLIGHT
TZNAME:CEST
TZOFFSETFROM:+0100
TZOFFSETTO:+0200
DTSTART:20270328T010000
END:DAYLIGHT
BEGIN:STANDARD
TZNAME:CET
TZOFFSETFROM:+0200
TZOFFSETTO:+0100
DTSTART:20251026T010000
END:STANDARD
BEGIN:STANDARD
TZNAME:CET
TZOFFSETFROM:+0200
TZOFFSETTO:+0100
DTSTART:20261025T010000
END:STANDARD
END:VTIMEZONE
BEGIN:VEVENT
UID:6d2b17ec3bc9f98a5ed907727093514e
DTSTART;TZID=Europe/Madrid:20260527T123000
SEQUENCE:0
TRANSP:OPAQUE
URL:https://www.contraelcancer.es/[node:path]
SUMMARY:Quin tipus d&#039\;alimentació seguir durant el tractament? Online
CLASS:PUBLIC
DESCRIPTION:L’alimentació juga un paper clau durant els tractaments\nonc
 ològics: pot ajudar a mantenir l’energia\, reduir efectes\nsecundaris i
  afavorir la recuperació. En aquesta xerrada parlarem de\ncom adaptar la 
 dieta a les necessitats de cada moment\, resoldrem\ndubtes habituals sobre
  aliments recomanats o a evitar\, i oferirem\nconsells pràctics per menja
 r de manera equilibrada i segura. Una guia\npropera i útil per cuidar-se 
 millor a través del que mengem.\n
X-ALT-DESC;FMTTYPE=text/html:<p>L’alimentació juga un paper clau durant 
 els tractaments oncològics: pot ajudar a mantenir l’energia\, reduir ef
 ectes secundaris i afavorir la recuperació. En aquesta xerrada parlarem d
 e com adaptar la dieta a les necessitats de cada moment\, resoldrem dubtes
  habituals sobre aliments recomanats o a evitar\, i oferirem consells prà
 ctics per menjar de manera equilibrada i segura. Una guia propera i útil 
 per cuidar-se millor a través del que mengem.</p>
DTSTAMP:20260420T101651Z
END:VEVENT
END:VCALENDAR