BEGIN:VCALENDAR
VERSION:2.0
PRODID:www.contraelcancer.es
X-WR-TIMEZONE:Europe/Madrid
X-PUBLISHED-TTL:P1W
BEGIN:VTIMEZONE
TZID:Europe/Madrid
X-LIC-LOCATION:Europe/Madrid
BEGIN:DAYLIGHT
TZNAME:CEST
TZOFFSETFROM:+0100
TZOFFSETTO:+0200
DTSTART:20260329T010000
END:DAYLIGHT
BEGIN:DAYLIGHT
TZNAME:CEST
TZOFFSETFROM:+0100
TZOFFSETTO:+0200
DTSTART:20270328T010000
END:DAYLIGHT
BEGIN:STANDARD
TZNAME:CET
TZOFFSETFROM:+0200
TZOFFSETTO:+0100
DTSTART:20251026T010000
END:STANDARD
BEGIN:STANDARD
TZNAME:CET
TZOFFSETFROM:+0200
TZOFFSETTO:+0100
DTSTART:20261025T010000
END:STANDARD
END:VTIMEZONE
BEGIN:VEVENT
UID:e39f5b803b0f19344b059e01c7362ec8
DTSTART;TZID=Europe/Madrid:20260519T120000
SEQUENCE:0
TRANSP:OPAQUE
URL:https://www.contraelcancer.es/[node:path]
SUMMARY:Grupo de duelo. Online
CLASS:PUBLIC
DESCRIPTION:Grupo terapéutico con el objetivo de acompañar la pérdida vi
 vida de\nun ser querido. Con esta intervención se pretende evitar las\nco
 mplicaciones que puedan derivar en un duelo complicado. Dirigido a\nperson
 as que están viviendo el proceso de pérdida por enfermedad\noncológica.
  \n\nPARA PARTICIPAR ES NECESARIO REALIZAR UNA ENTREVISTA PREVIA.\n\nLAS 
 INSCRIPCIONES SE CERRARÁN UNA SEMANA ANTES DEL INICIO DEL GRUPO.\n
X-ALT-DESC;FMTTYPE=text/html:<p>Grupo terapéutico con el objetivo de acomp
 añar la pérdida vivida de un ser querido. Con esta intervención se pret
 ende evitar las complicaciones que puedan derivar en un duelo complicado. 
 Dirigido a personas que están viviendo el proceso de pérdida por enferme
 dad oncológica. </p>\n\n<p><strong>Para participar es necesario realizar
  una entrevista previa.</strong></p>\n\n<p><strong>Las inscripciones se ce
 rrarán una semana antes del inicio del grupo.</strong></p>\n
DTSTAMP:20260420T053238Z
END:VEVENT
END:VCALENDAR