BEGIN:VCALENDAR
VERSION:2.0
PRODID:www.contraelcancer.es
X-WR-TIMEZONE:Europe/Madrid
X-PUBLISHED-TTL:P1W
BEGIN:VTIMEZONE
TZID:Europe/Madrid
X-LIC-LOCATION:Europe/Madrid
BEGIN:DAYLIGHT
TZNAME:CEST
TZOFFSETFROM:+0100
TZOFFSETTO:+0200
DTSTART:20260329T010000
END:DAYLIGHT
BEGIN:DAYLIGHT
TZNAME:CEST
TZOFFSETFROM:+0100
TZOFFSETTO:+0200
DTSTART:20270328T010000
END:DAYLIGHT
BEGIN:STANDARD
TZNAME:CET
TZOFFSETFROM:+0200
TZOFFSETTO:+0100
DTSTART:20251026T010000
END:STANDARD
BEGIN:STANDARD
TZNAME:CET
TZOFFSETFROM:+0200
TZOFFSETTO:+0100
DTSTART:20261025T010000
END:STANDARD
END:VTIMEZONE
BEGIN:VEVENT
UID:cd5cc3962ae4da06df01197a5c9d6ce3
DTSTART;TZID=Europe/Madrid:20261006T160000
SEQUENCE:0
TRANSP:OPAQUE
URL:https://www.contraelcancer.es/[node:path]
SUMMARY:Duelo y soledad - DONOSTIA
CLASS:PUBLIC
DESCRIPTION:Un encuentro sobre la soledad que tiene lugar durante el duelo 
 y está\ndirigida a seres queridos de personas fallecidas por cáncer. Su\
 nfinalidad es abordar y normalizar esta sensación destacando su\nimportan
 cia en el proceso de adaptación a una nueva realidad sin el\nser querido.
 \n\nHorario: 16:00 a 18:00h.\n\n*La inscripción no garantiza la plaza\n
X-ALT-DESC;FMTTYPE=text/html:<p><span>Un encuentro sobre la soledad que tie
 ne lugar durante el duelo y está dirigida a seres queridos de personas fa
 llecidas por cáncer. Su finalidad es abordar y normalizar esta sensación
  destacando su importancia en el proceso de adaptación a una nueva realid
 ad sin el ser querido.</span></p>\n\n<p>Horario: 16:00 a 18:00h.</p>\n\n<p
 >*La inscripción no garantiza la plaza</p>
DTSTAMP:20260421T065930Z
END:VEVENT
END:VCALENDAR