BEGIN:VCALENDAR
VERSION:2.0
PRODID:www.contraelcancer.es
X-WR-TIMEZONE:Europe/Madrid
X-PUBLISHED-TTL:P1W
BEGIN:VTIMEZONE
TZID:Europe/Madrid
X-LIC-LOCATION:Europe/Madrid
BEGIN:DAYLIGHT
TZNAME:CEST
TZOFFSETFROM:+0100
TZOFFSETTO:+0200
DTSTART:20260329T010000
END:DAYLIGHT
BEGIN:DAYLIGHT
TZNAME:CEST
TZOFFSETFROM:+0100
TZOFFSETTO:+0200
DTSTART:20270328T010000
END:DAYLIGHT
BEGIN:STANDARD
TZNAME:CET
TZOFFSETFROM:+0200
TZOFFSETTO:+0100
DTSTART:20251026T010000
END:STANDARD
BEGIN:STANDARD
TZNAME:CET
TZOFFSETFROM:+0200
TZOFFSETTO:+0100
DTSTART:20261025T010000
END:STANDARD
END:VTIMEZONE
BEGIN:VEVENT
UID:97fc00b1c99644e8d7f91ce08df50931
DTSTART;TZID=Europe/Madrid:20260520T160000
SEQUENCE:0
TRANSP:OPAQUE
URL:https://www.contraelcancer.es/[node:path]
SUMMARY:Manejo de la incertidumbre. Domum del Hospital Vall d&#039\;Hebron.
CLASS:PUBLIC
DESCRIPTION: \n\nEste taller está dirigido a pacientes con cualquier fase
  de la\nenfermedad. Será un espacio para trabajar el impacto de la\nincer
 tidumbre y para facilitar herramientas para su manejo.\n\nLa actividad se
  realizará en el Domum del Hospital Vall d'Hebron.\n
X-ALT-DESC;FMTTYPE=text/html:<p> </p>\n\n<p>Este taller está dirigido a p
 acientes con cualquier fase de la enfermedad. Será un espacio para trabaj
 ar el impacto de la incertidumbre y para facilitar herramientas para su m
 anejo.</p>\n\n<p>La actividad se realizará en el Domum del Hospital Vall 
 d'Hebron.</p>
DTSTAMP:20260420T054048Z
END:VEVENT
END:VCALENDAR