BEGIN:VCALENDAR
VERSION:2.0
PRODID:www.contraelcancer.es
X-WR-TIMEZONE:Europe/Madrid
X-PUBLISHED-TTL:P1W
BEGIN:VTIMEZONE
TZID:Europe/Madrid
X-LIC-LOCATION:Europe/Madrid
BEGIN:DAYLIGHT
TZNAME:CEST
TZOFFSETFROM:+0100
TZOFFSETTO:+0200
DTSTART:20260329T010000
END:DAYLIGHT
BEGIN:DAYLIGHT
TZNAME:CEST
TZOFFSETFROM:+0100
TZOFFSETTO:+0200
DTSTART:20270328T010000
END:DAYLIGHT
BEGIN:STANDARD
TZNAME:CET
TZOFFSETFROM:+0200
TZOFFSETTO:+0100
DTSTART:20251026T010000
END:STANDARD
BEGIN:STANDARD
TZNAME:CET
TZOFFSETFROM:+0200
TZOFFSETTO:+0100
DTSTART:20261025T010000
END:STANDARD
END:VTIMEZONE
BEGIN:VEVENT
UID:3e376e63cafb3c596838acba9a91fd1a
DTSTART;TZID=Europe/Madrid:20260527T100000
SEQUENCE:0
TRANSP:OPAQUE
URL:https://www.contraelcancer.es/[node:path]
SUMMARY:Taller: incorporación al trabajo. Online
CLASS:PUBLIC
DESCRIPTION:En este taller se trataran herramientas y cuestiones como: ¿te
 ngo que\nvolver a trabajar? Y si no estoy preparado o no me encuentro en\n
 condiciones de reincorporarme.... ¿puedo hacerlo progresivamente?\,\n¿po
 dré seguir haciendo las mismas funciones?\, ¿se pueden cambiar\nlas cond
 iciones laborales? o ¿me pueden adaptar el trabajo?\n
X-ALT-DESC;FMTTYPE=text/html:<p>En este taller se trataran herramientas y c
 uestiones como: ¿tengo que volver a trabajar? Y si no estoy preparado o n
 o me encuentro en condiciones de reincorporarme.... ¿puedo hacerlo progre
 sivamente?\, ¿podré seguir haciendo las mismas funciones?\, ¿se pueden 
 cambiar las condiciones laborales? o ¿me pueden adaptar el trabajo?</p>
DTSTAMP:20260420T101925Z
END:VEVENT
END:VCALENDAR