BEGIN:VCALENDAR
VERSION:2.0
PRODID:www.contraelcancer.es
X-WR-TIMEZONE:Europe/Madrid
X-PUBLISHED-TTL:P1W
BEGIN:VTIMEZONE
TZID:Europe/Madrid
X-LIC-LOCATION:Europe/Madrid
BEGIN:DAYLIGHT
TZNAME:CEST
TZOFFSETFROM:+0100
TZOFFSETTO:+0200
DTSTART:20260329T010000
END:DAYLIGHT
BEGIN:DAYLIGHT
TZNAME:CEST
TZOFFSETFROM:+0100
TZOFFSETTO:+0200
DTSTART:20270328T010000
END:DAYLIGHT
BEGIN:STANDARD
TZNAME:CET
TZOFFSETFROM:+0200
TZOFFSETTO:+0100
DTSTART:20251026T010000
END:STANDARD
BEGIN:STANDARD
TZNAME:CET
TZOFFSETFROM:+0200
TZOFFSETTO:+0100
DTSTART:20261025T010000
END:STANDARD
END:VTIMEZONE
BEGIN:VEVENT
UID:5d04c8d6eec86db947c51970a4e4a99d
DTSTART;TZID=Europe/Madrid:20260512T100000
SEQUENCE:0
TRANSP:OPAQUE
URL:https://www.contraelcancer.es/[node:path]
SUMMARY:Espacio grupal de apoyo psicológico para personas con cáncer avan
 zado - DONOSTIA
CLASS:PUBLIC
DESCRIPTION:Grupo de intervención psicológica de 8 sesiones\, de un máxi
 mo de 2\nhoras cada una\, dirigido a pacientes con ENFERMEDAD AVANZADA. \
 n\nGrupo para personas con diagnóstico en situación no curativa\, con\ni
 ntención de cronificar la enfermedad o de paliar.\n\n \n
X-ALT-DESC;FMTTYPE=text/html:<p><span><span><span>Grupo de intervención ps
 icológica de 8 sesiones\, de un máximo de 2 horas cada una\, dirigido a 
 pacientes con <strong>enfermedad avanzada. </strong></span></span></span>
 </p>\n\n<p><span><span><span>Grupo para personas con diagnóstico en situa
 ción no curativa\, con intención de cronificar la enfermedad o de paliar
 .</span></span></span></p>\n\n<p> </p>
DTSTAMP:20260421T063024Z
END:VEVENT
END:VCALENDAR