BEGIN:VCALENDAR
VERSION:2.0
PRODID:www.contraelcancer.es
X-WR-TIMEZONE:Europe/Madrid
X-PUBLISHED-TTL:P1W
BEGIN:VTIMEZONE
TZID:Europe/Madrid
X-LIC-LOCATION:Europe/Madrid
BEGIN:DAYLIGHT
TZNAME:CEST
TZOFFSETFROM:+0100
TZOFFSETTO:+0200
DTSTART:20260329T010000
END:DAYLIGHT
BEGIN:DAYLIGHT
TZNAME:CEST
TZOFFSETFROM:+0100
TZOFFSETTO:+0200
DTSTART:20270328T010000
END:DAYLIGHT
BEGIN:STANDARD
TZNAME:CET
TZOFFSETFROM:+0200
TZOFFSETTO:+0100
DTSTART:20251026T010000
END:STANDARD
BEGIN:STANDARD
TZNAME:CET
TZOFFSETFROM:+0200
TZOFFSETTO:+0100
DTSTART:20261025T010000
END:STANDARD
END:VTIMEZONE
BEGIN:VEVENT
UID:18830bd4a415f62aafc99b52e7ca0f21
DTSTART;TZID=Europe/Madrid:20260512T173000
SEQUENCE:0
TRANSP:OPAQUE
URL:https://www.contraelcancer.es/[node:path]
SUMMARY:MIEDO A LA RECAÍDA
CLASS:PUBLIC
DESCRIPTION:Taller grupal \"Miedo a la recaída\"\n\nDirigido a pacientes o
 ncológicos que han terminado tratamiento para\nmejorar la capacidad de ge
 stión emocional del miedo a la recaída.\n\n📅 12\, 19\, 26 de mayo\; 
 2 y 9 de junio (5 sesiones)\n\n⏰ 17:30h\n\n📍 Formato mixto: presenc
 ial y online\, según tus preferencias\n\n🗣️ Imparte: Celia Gonzále
 z Perona\n\n \n
X-ALT-DESC;FMTTYPE=text/html:<p>Taller grupal \"Miedo a la recaída\"</p>\n
 \n<p>Dirigido a pacientes oncológicos que han terminado tratamiento para 
 mejorar la capacidad de gestión emocional del miedo a la recaída.</p>\n\
 n<p>📅 12\, 19\, 26 de mayo\; 2 y 9 de junio (5 sesiones)</p>\n\n<p>⏰
  17:30h</p>\n\n<p>📍 Formato mixto: presencial y online\, según tus p
 referencias</p>\n\n<p>🗣️ Imparte: Celia González Perona</p>\n\n<p>
  </p>
DTSTAMP:20260423T084238Z
END:VEVENT
END:VCALENDAR